BEGIN:VCALENDAR
VERSION:2.0
PRODID:-//wp-events-plugin.com//7.2.3.1//EN
BEGIN:VEVENT
UID:6@lk-reichenbach.de
DTSTART:20250525T190000Z
DTEND:20250525T190000Z
DTSTAMP:20250115T200212Z
URL:https://lk-reichenbach.de/events/maiandacht/
SUMMARY:Maiandacht
DESCRIPTION:Dewangen
CATEGORIES:Veranstaltung
END:VEVENT
END:VCALENDAR