BEGIN:VCALENDAR
VERSION:2.0
PRODID:-//wp-events-plugin.com//7.2.3.1//EN
BEGIN:VEVENT
UID:7@lk-reichenbach.de
DTSTART:20250322T193000Z
DTEND:20250322T193000Z
DTSTAMP:20250115T201124Z
URL:https://lk-reichenbach.de/events/generalversammlung-2/
SUMMARY:Generalversammlung
DESCRIPTION:Dorfhaus Reichenbach
CATEGORIES:Veranstaltung
END:VEVENT
END:VCALENDAR